BEGIN:VCALENDAR
VERSION:2.0
PRODID:-//Asset Management Engineers - ECPv5.9.0//NONSGML v1.0//EN
CALSCALE:GREGORIAN
METHOD:PUBLISH
X-WR-CALNAME:Asset Management Engineers
X-ORIGINAL-URL:https://www.asseteng.com.au
X-WR-CALDESC:Events for Asset Management Engineers
BEGIN:VTIMEZONE
TZID:Asia/Shanghai
BEGIN:STANDARD
TZOFFSETFROM:+0800
TZOFFSETTO:+0800
TZNAME:CST
DTSTART:20250101T000000
END:STANDARD
END:VTIMEZONE
BEGIN:VEVENT
DTSTART;TZID=Asia/Shanghai:20251217T080000
DTEND;TZID=Asia/Shanghai:20251217T150000
DTSTAMP:20260420T025718
CREATED:20241111T011657Z
LAST-MODIFIED:20251212T045618Z
UID:306937-1765958400-1765983600@www.asseteng.com.au
SUMMARY:Mines Statutory Positions Exam Preparation Training
DESCRIPTION:Who is the course for?\nFor mining professionals\, supervisors\, and alternate leading hands who are starting their statutory journey. \nSchedule 26 of the WHS Mines Regulations 2022\n✔ At least two years mining experience or experience in a mine related business.\n✔ Complete WHS risk management units of competency.\n❓ Pass the Mines Statutory Position Exam. \nOur Commitment to Your success\n✔ The exam preparation training will prepare you for the exam.\n✔ Our success is observing you achieve your goals.\n✔ Ongoing support leading up to the exam.\n✔ Provide tailored revision processes if not successful at the first attempt.\n✔ AME Training Services work within and are committed to the mining sector. \nCourse Content and Delivery\n✔ 1 day @ 8 hours face to face delivery.\n✔ Perth\, the Pilbara\, the Goldfields\, or Bunbury training hubs.\n✔ On site delivery for client groups.\n✔ You receive a hard copy of the WA WHS Act 2020 to mark up during the course and take to the exam.\n✔ You receive a hard copy of the WA WHS Mines Regulations 2022 to mark up during the course and take to the exam.\n✔ Training is based on the regulatory structure and how to understand it.\n✔ Practice exam questions are available. \n➜ Download our Training Brochure
URL:https://www.asseteng.com.au/course/mines-statutory-positions-exam-preparation-training-45/
LOCATION:AME Office\, Burswood\, Unit 2\, 133 Burswood Road\, Burswood WA\, WA\, 6100\, Australia
END:VEVENT
END:VCALENDAR