BEGIN:VCALENDAR
VERSION:2.0
PRODID:-//Asset Management Engineers - ECPv5.9.0//NONSGML v1.0//EN
CALSCALE:GREGORIAN
METHOD:PUBLISH
X-WR-CALNAME:Asset Management Engineers
X-ORIGINAL-URL:https://www.asseteng.com.au
X-WR-CALDESC:Events for Asset Management Engineers
BEGIN:VTIMEZONE
TZID:Asia/Shanghai
BEGIN:STANDARD
TZOFFSETFROM:+0800
TZOFFSETTO:+0800
TZNAME:CST
DTSTART:20240101T000000
END:STANDARD
END:VTIMEZONE
BEGIN:VEVENT
DTSTART;TZID=Asia/Shanghai:20240524T080000
DTEND;TZID=Asia/Shanghai:20240524T150000
DTSTAMP:20260422T202407
CREATED:20231017T014003Z
LAST-MODIFIED:20240521T015127Z
UID:305995-1716537600-1716562800@www.asseteng.com.au
SUMMARY:Itinerant Registerable Plant Training Course Full
DESCRIPTION:The Itinerant Registerable Plant Training is designed for managers and supervisors of mine sites\, covering the regulations and statutory expectations pertaining to Itinerant Registerable Plant. Our training sessions include training manual\, morning tea and a light lunch. AME training sessions are held within the Perth metro area\, however site visits to train larger groups of your staff can also be arranged. \nThe curriculum covers: \n\nDefinition of Itinerant Registerable Plant\nDesign registration requirements of Itinerant Registerable Plant\nInspection obligations and compliance\nRules for appointment of Registerable Plant Inspector\nResponsibility & accountability of Appointed Person(s)\nContractor requirements for Itinerant Registerable Plant Site Access\nDocument checks and visual safety inspections\nBroader mine site requirements\n\nRefreshments including morning tea and a light lunch provided.
URL:https://www.asseteng.com.au/course/itinerant-registerable-plant-training-24-05-24/
LOCATION:West Swan Training Centre\, 52 Harrow Street\, West Swan\, WA\, 6055\, Australia
END:VEVENT
END:VCALENDAR