BEGIN:VCALENDAR
VERSION:2.0
PRODID:-//Asset Management Engineers - ECPv5.9.0//NONSGML v1.0//EN
CALSCALE:GREGORIAN
METHOD:PUBLISH
X-WR-CALNAME:Asset Management Engineers
X-ORIGINAL-URL:https://www.asseteng.com.au
X-WR-CALDESC:Events for Asset Management Engineers
BEGIN:VTIMEZONE
TZID:Asia/Shanghai
BEGIN:STANDARD
TZOFFSETFROM:+0800
TZOFFSETTO:+0800
TZNAME:CST
DTSTART:20220101T000000
END:STANDARD
END:VTIMEZONE
BEGIN:VEVENT
DTSTART;TZID=Asia/Shanghai:20220510T080000
DTEND;TZID=Asia/Shanghai:20220510T150000
DTSTAMP:20260423T063448
CREATED:20211222T064907Z
LAST-MODIFIED:20220413T040801Z
UID:305022-1652169600-1652194800@www.asseteng.com.au
SUMMARY:Itinerant Registerable Plant Training
DESCRIPTION:The Itinerant Registerable Plant Training is designed for managers and supervisors of mine sites\, covering the regulations and statutory expectations pertaining to Itinerant Registerable Plant. Our training sessions include training manual\, morning and afternoon tea and lunch. The session is held at the AME office in Belmont\, WA\, however site visits to train larger groups of your staff can also be arranged. \nThe curriculum covers: \n\nDefinition of Itinerant Registerable Plant\nDesign registration requirements of Itinerant Registerable Plant\nInspection obligations and compliance\nRules for appointment of Registerable Plant Inspector\nResponsibility & accountability of Appointed Person(s)\nContractor requirements for Itinerant Registerable Plant Site Access\nDocument checks and visual safety inspections\nBroader mine site requirements\n\nRefreshments including morning tea and a light lunch provided.
URL:https://www.asseteng.com.au/course/itinerant-classified-plant-training-10-05-22/
LOCATION:Country Comfort Hotel\, Belmont\, 249-263 Great Eastern Highway\, Belmont WA\, WA\, 6104\, Australia
END:VEVENT
END:VCALENDAR