BEGIN:VCALENDAR
VERSION:2.0
PRODID:-//Asset Management Engineers - ECPv5.9.0//NONSGML v1.0//EN
CALSCALE:GREGORIAN
METHOD:PUBLISH
X-WR-CALNAME:Asset Management Engineers
X-ORIGINAL-URL:https://www.asseteng.com.au
X-WR-CALDESC:Events for Asset Management Engineers
BEGIN:VTIMEZONE
TZID:Asia/Shanghai
BEGIN:STANDARD
TZOFFSETFROM:+0800
TZOFFSETTO:+0800
TZNAME:CST
DTSTART:20240101T000000
END:STANDARD
END:VTIMEZONE
BEGIN:VEVENT
DTSTART;TZID=Asia/Shanghai:20241015T080000
DTEND;TZID=Asia/Shanghai:20241015T150000
DTSTAMP:20260422T165014
CREATED:20210424T044207Z
LAST-MODIFIED:20241004T072712Z
UID:304443-1728979200-1729004400@www.asseteng.com.au
SUMMARY:Itinerant Classified Plant Training
DESCRIPTION:The Itinerant Classified Plant Training is designed for managers and supervisors of mine sites\, covering the regulations and statutory expectations pertaining to Itinerant Classified Plant. Our training sessions include training manual\, morning and afternoon tea and lunch. The session is held at the AME office in Belmont\, WA\, however site visits to train larger groups of your staff can also be arranged. \nThe curriculum covers: \n\nDefinition of Itinerant Classified Plant (ICP)\nDesign registration requirements of ICP\nICP Inspection obligations and compliance\nRules for appointment of Classified Plant Inspector\nResponsibility & accountability of Appointed Person(s)\nContractor requirements for Itinerant Classified Plant (ICP) Site Access\nDocument checks and visual safety inspections\nBroader mine site requirements\n\nRefreshments including morning tea and a light lunch provided.
URL:https://www.asseteng.com.au/course/itinerant-classified-plant-awareness-01-02-22/
LOCATION:West Swan Training Centre\, 52 Harrow Street\, West Swan\, WA\, 6055\, Australia
END:VEVENT
END:VCALENDAR