BEGIN:VCALENDAR
VERSION:2.0
PRODID:-//Asset Management Engineers - ECPv5.9.0//NONSGML v1.0//EN
CALSCALE:GREGORIAN
METHOD:PUBLISH
X-WR-CALNAME:Asset Management Engineers
X-ORIGINAL-URL:https://www.asseteng.com.au
X-WR-CALDESC:Events for Asset Management Engineers
BEGIN:VTIMEZONE
TZID:Asia/Shanghai
BEGIN:STANDARD
TZOFFSETFROM:+0800
TZOFFSETTO:+0800
TZNAME:CST
DTSTART:20220101T000000
END:STANDARD
END:VTIMEZONE
BEGIN:VEVENT
DTSTART;TZID=Asia/Shanghai:20220630T080000
DTEND;TZID=Asia/Shanghai:20220701T160000
DTSTAMP:20260423T062247
CREATED:20211222T065204Z
LAST-MODIFIED:20220511T071601Z
UID:305026-1656576000-1656691200@www.asseteng.com.au
SUMMARY:Introduction to Registerable Plant Awareness - Kalgoorlie
DESCRIPTION:The Introduction to Registerable Plant Awareness Training is our most popular\, covering the regulations and statutory expectations pertaining to a large range of Plant and Equipment. Our training sessions include training manual\, morning and afternoon tea and lunch on both days. These sessions are held at the Tower Hotel in Kalgoorlie (Cnr Maritana & Bourke Streets)\, however site visits to train larger groups of your staff can be arranged. \nCourse Times Day 1 & 2: 8:00am – 4:00pm \nKey Modules: \nAME-CP-000 Introduction to Registerable Plant (Advanced)\nAME CP-001 Pressure Vessel Inspection (incl. PRV’s)\nAME CP-002 Cranes and Monorails\nAME CP-003 EWP’s and Hoists\nAME CP-004 Mancages and Work Boxes\nAME CP-005 Mobile Cranes and Itinerant Plant \nWhat’s New in the 2022 Course?\nDue to WA’s new Work Health and Safety Act 2020 and the Work Health and Safety (Mines) Regulations 2022 (in effect since 31 March 2022)\, we have updated our course curriculum to address and cover those changes. \nHere are a few examples of new topics: \n\nChanges to classified plant requirements under schedule 5 of the WHS Mines Regs 2022 including the new exemptions to registration.\nThe transition periods for plant registration either on or before commencement day.\nThe new requirement for both design and plant registration in the mining sector.\nNew definitions for what constitute a competent person.\nWho is allowed to conduct major inspections for mobile cranes?\nSection 5.2 The registration of plant.\n\nTo see the full list of WHS updates discussed in the course\, please click below. \n➜ Access updated 2022 Training Course Brochure
URL:https://www.asseteng.com.au/course/introduction-registerable-plant-awareness-30-06-22/
LOCATION:Tower Hotel Kalgoorlie\,\, Crn Maritana & Bourke Street\, Kalgoorlie\, WA\, Australia
END:VEVENT
END:VCALENDAR